Workbook
Name ___img1: #REF!
Name ___img2: #REF!
Name ___img3: #REF!
Name ___img4: #REF!
Name ___img5: #REF!
Name __img1: #REF!
Name __img2: #REF!
Name __img3: #REF!
Name __img4: #REF!
Name __img5: #REF!
Name _1_LEQ_Corr: [1]CORRECCION!$C$16:$C$42
Name _1_LEQ_Ref: [1]CORRECCION!$B$16:$B$42
Name _2_LEQ_Corr: [1]CORRECCION!$I$16:$I$42
Name _2_LEQ_Ref: [1]CORRECCION!$H$16:$H$42
Name _3_LEQ_Corr: [1]CORRECCION!$O$16:$O$42
Name _3_LEQ_Ref: [1]CORRECCION!$N$16:$N$42
Name _img1: #REF!
Name _img2: #REF!
Name _img3: #REF!
Name _img4: #REF!
Name _img5: #REF!
Name aaaaaaaaaaaaaa: #REF!
Name ak: [2]captura!$AY$60
Name Apellidos: #REF!
Name C_QR: [3]Datos!$B$2
Name CONSULTOR_: INDIRECT([3]Consultores!$J$7)
Name Corr_Int: [4]CORRECCION!$C$21:$C$30
Name Corr_Int_b: [4]CORRECCION!$E$21:$E$30
Name Corr_Int_m: [4]CORRECCION!$D$21:$D$30
Name Datos: #REF!
Name Datos_Calc_Anexo: #REF!
Name DAtos1: #REF!
Name ENCUESTA: #REF!
Name EPPAQj: [1]CAPTURA!$E$169:$N$180
Name Escala_Res_362: [4]CORRECCION!$D$13:$D$16
Name Ev_FC: [4]CORRECCION!$C$37:$C$47
Name Ev_FC_LS: [4]CORRECCION!$D$53
Name Ev_IPO: [4]CORRECCION!$B$37:$B$47
Name Ev_IPO_LI: [4]CORRECCION!$C$52
Name Ev_IPO_LS: [4]CORRECCION!$C$53
Name Fotos: INDIRECT(mifoto)
Name IM_IR_LS: [4]CORRECCION!$E$53
Name IM_IRpor: [4]CORRECCION!$D$37:$D$47
Name IM_IRrel: [4]CORRECCION!$E$37:$E$47
Name INM_COLOR: [1]CAPTURA!$F$5
Name LecInst_Int: [4]CORRECCION!$B$21:$B$29
Name mifoto: #REF!
Name NOM_011_FIRMAR: INDIRECT([5]Firmas!$P$2)
Name NOM_011_FIRMARA: INDIRECT([5]Firmas!$P$3)
Name NOM_025_FIRMAR: INDIRECT([4]Firmas!$P$2)
Name NOM_025_FIRMARA: INDIRECT([4]Firmas!$P$3)
Name P_002SEM: [3]Consultores!#REF!
Name P_011: [3]Consultores!#REF!
Name P_015: [3]Consultores!#REF!
Name P_022: [3]Consultores!#REF!
Name P_025: [3]Consultores!#REF!
Name PORTADA_: INDIRECT([3]Consultores!#REF!)
Name punto: '[4]Captura de datos (2)'!#REF!
Name Res_362: [4]CORRECCION!$E$13:$E$16
Name SON_N: [1]CORRECCION!$N$16:$O$42

Sheet BDG
A1: ID NUMERO DE ESTUDIO | B1: RESPONSABLE ADMINISTRATIVO | C1: ORDEN DE SERVICIO | D1: ORD. INFORME | E1: ID INFORME | F1: RAZON SOCIAL | G1: NORMA | H1: REALIZO | I1: REVISO | J1: FECHA RECONOCIMIENTO | K1: FECHA INFORME | L1: COMENTARIOS | M1: PUNTOS HDC | N1: ESTATUS ESTUDIO

Sheet DATOS GENERALES
A1: Datos del centro de trabajo
A2: Razón social:
A3: Titulo | B3: Reconocimiento de los Agentes Químicos Contaminantes en el Ambiente Laboral
A4: Dirección
A5: Responsable
A6: Cargo:
A7: Contacto:
A8: RFC:
A9: Turnos:
A10: Giro empresarial:
A11: Proporcioan HDS
A12: Total de Sustancias u Hojas de Seguridad de la empresa:
A13: Controles técnicos
A14: Controles administrativos
A15: Teléfono | B15: N/P
A16: ID: | B16: =BDG!E2 -> MD32026-SGC091-TMSQIR-01A
A17: SERVICIO: | B17: =BDG!D2 -> MD32026-SGC091-ORS001
A18: ORDEN DE SERVICIO: | B18: =BDG!C2 -> SER/2026/03/044808
A19: Fecha de reconocimiento: | B19: =BDG!J2 -> 2026-04-30
A20: Fecha de emisión del informe: | B20: =BDG!K2 -> 46149
A21: REALIZÓ: | B21: =BDG!H2 -> Angel Gustavo Medina Garcia
A22: REVISÓ: | B22: =BDG!I2 -> Alfredo Solano Bustamante

Sheet Tablas-Referencia
B4: Tabla 1 | AC4: Tabla 5 | BD4: Tabla 7 | CE4: Tabla 10 | DF4: Tabla 13
G5: Estado físico de la sustancia química en el ambiente | AC5: Grado de Riesgo a la Salud | BD5: Determinación de la volatilidad de sustancias químicas sólidas | CE5: Valores de ponderación para las sustancias químicas | DF5: Determinación de los grupos de exposición homogénea
H7: Sólido | L7: Líquido | P7: Gases | AC7: Grado de riesgo a la Salud | AJ7: Vía de Ingreso / DL50 ó CL50 | BD7: Volatilidad | BH7: Sólidos | CE7: Cantidad manejada / día | CJ7: Valor | CN7: Clasificación de riesgo (Tabla 4) | CS7: Valor | CW7: Volatilidad | DA7: Valor | DF7: Sustancias químicas presentes en el área, proceso o puesto de trabajo (Tabla 9) | DK7: Valor de ponderación | DW7: TOTAL (Suma de los valores de ponderación) | EA7: Prioridad de muestreo (Tabla 14)
H8: Polvo | L8: Neblina | P8: Vapor | AJ8: Oral (1) | AP8: Piel (2) | AV8: Inhalación (3) | BD8: Baja | BH8: Sustancia de pellets que no tienen tendencia a romperse. No se aprecia Producción de polvo durante su empleo. p. ej. Pellets de cloruro de polivinilo, escamas enceradas, entre otras.
H9: Humo | L9: Rocío | P9: Gas | AJ9: mg/kg | AP9: mg/kg | AV9: mg/l o ppm | CE9: Gramos/mililítros (menos de 1000). | CJ9: 1 | CN9: 0 | CS9: 1 | CW9: Baja | DA9: 1 | DK9: Vía(s) de ingreso al organismo (Tabla 12) | DO9: Número de POE expuesto (Tabla 12) | DS9: Tiempo de exposición (Tabla 12)
H10: Fibra | L10: - | P10: - | AC10: =B42 -> Grado 0, Mínimamente peligroso | AJ10: DL50 mayor que 5,000 mg/kg. | AP10: DL50 mayor que 5,000 mg/kg. | AV10: CL50 mayor que 200 mg/l o mayor que 10,000 ppm.
BD11: Media | BH11: Sustancias sólidas cristalinas o granulares. Cuando son usadas, se observa producción de polvo que se disipa o deposita rápidamente sobre superficies despues del uso. p. ej. Jabón en polvo, entre otros. | CE11: Kilos/litros (De 1 a menos de 251). | CJ11: 2 | CN11: 1 | CS11: 2 | CW11: Media | DA11: 2
B13: Tabla 2 | AC13: =B43 -> Grado 1, Ligeramente peligroso | AJ13: DL50 mayor que 500 hasta 5,000 mg/kg. | AP13: DL50 mayor que 1,000 hasta 5,000 mg/kg. | AV13: CL50 mayor que 20 hasta 200 mg/l o mayor que 2,000 hasta 10,000 en ppm. | CE13: Kilos/litros (De 251 a menos de 1000). | CJ13: 3 | CN13: 2 | CS13: 3 | CW13: Alta | DA13: 4
B14: Prioridad de muestreo del contaminante químico a evaluar, considerando su concentración medida en el ambiente laboral (CMA) | BD14: Alta | BH14: Polvos finos, ligeros y de baja densidad. Cuando son usados, se producen nubes de polvo que permanecen en el aire durante varios minutos. p. ej. Cemento, negro de humo, polvo de tiza, entre otros.
CE15: Toneladas/metros cúbicos (1 o más). | CJ15: 4 | CN15: 3 | CS15: 4
E17: Prioridad de Muestreo | L17: Rango del VLE (PPT o CT) | AC17: =B44 -> Grado 2, Moderadamente peligroso | AJ17: DL50 mayor que 50 hasta 500 mg/kg. | AP17: DL50 mayor que 200 hasta 1,000 mg/kg. | AV17: CL50 mayor que 2 hasta 20 mg/l o mayor que 200 hasta 1,000 en ppm. | CE17: Cualquier cantidad de sustancias químicas cancerígenas (A1 o A2), teratogénicas o mutagénicas. | CJ17: 5 | CN17: 4 | CS17: 5
E18: Baja | P18: CMA | S18: ≤ 0.25 VLE
E19: Moderada | L19: 0.25 VLE < | P19: CMA | S19: ≤ 0.50 VLE | BD19: Tabla 8
E20: Alta | L20: 0.50 VLE < | P20: CMA | S20: ≤ VLE | BD20: Determinación de la volatilidad de sustancias químicas en estado líquido
E21: Muy Alta | L21: VLE < | P21: CMA | AC21: =B45 -> Grado 3, Seriamente peligroso | AJ21: DL50 mayo que 20 hasta 50 mg/kg. | AP21: DL50 mayo que 20 hasta 200 mg/kg. | AV21: CL50 mayor que 0.2 hasta 2 mg/l o mayor que 20 hasta 200 ppm. | DF21: Tabla 14
B22: Nota: Cuando se cuenta con estudios previos se deben elegir las sustancias de acuerdo a la tabla 2. | BD22: Volatilidad | BH22: Líquidos | DF22: Prioridad de muestreo de los grupos de exposición homogénea
BD23: Baja | BH23: Punto de ebullición por arriba de 150 °C, con temperaturas de operación de 20 a 55 °C.
B24: Tabla 3 | DI24: Ponderación total | DQ24: Prioridad de muestreo de los grupos de exposición homogénea
I25: Cantidad de sustancia manejada | AC25: =B46 -> Grado 4, Severamente peligroso | AJ25: DL50 hasta 1 mg/kg. | AP25: DL50 hasta 20 mg/kg. | AV25: CL50 hasta 0.2 mg/l o hasta 20 ppm.
BD26: Media | BH26: Punto de ebullición entre 50 °C, con temperaturas de operación de 20 a 310 °C, y 150 °C, con temperatura de operación de 20 a 55 °C. | CE26: Tabla 11 | DI26: 3 | DQ26: Baja
I27: Cantidad manejada / día | CE27: Prioridad de muestreo de las sustancias químicas | DI27: 4 a 8 | DQ27: Moderadda
I28: Gramos / mililitros | DI28: 9 a 12 | DQ28: Alta
I29: Kilos / litros | AC29: Tabla 6 | BD29: Alta | BH29: Punto de ebillición por debajo de 50 °C, con temperatura de operación de 20 a 310 °C. | CJ29: Suma de valores de ponderación | CR29: Prioridad de muestreo | DI29: 13 a 24 | DQ29: Muy Alta
I30: Toneladas / metros cúbicos (1 o más) | AC30: Categoría de Pelígro para la Salud
I31: Cualquier cantidad de sustancia química cancerígena (A1 o A2), teratogénica o mutagénica | CJ31: De 3 a 4 | CR31: Muy Baja
AC32: Código de indicación de Peligro (1) | AW32: Categoría de Peligro | CJ32: De 5 a 7 | CR32: Baja | DF32: Tabla 15
CJ33: De 8 a 9 | CR33: Moderadda | DF33: Número de POE a considerar para el muestreo, Prioridad Muy Alta
AC34: H333; (H303 + H333); (H313 + H333), y (H303 + H313 + H333). | AW34: 5 | BD34: Tabla 9 | CJ34: De 10 a 11 | CR34: Alta
AC35: H332; (H302 + H332); (H312 + H332), y (H302 + H312 + H332). | AW35: 4 | BD35: Determinación de la prioridad de muestreo de las sustancias químicas | CJ35: De 12 o más | CR35: Muy Alta | DH35: Cantidad de POE que integra el Grupo de Exposición Homogénia | DR35: Número de POE a considerar para el muestreo
B36: Tabla 4 | AC36: H331; H335; H336; (H301 + H331); (H311 + H331), y (H301 + H311 + H331). | AW36: 3
I37: Clasificación de Riesgo | AC37: H305; H341; H351; H361; H371 y H373. | AW37: 2 | BD37: Sustancias químicas | BI37: Valor de ponderación | BU37: Total (Suma de los valores de ponderación) | BY37: Prioridad de muestreo (Tabla 11) | DH37: 2 | DR37: 1
AC38: H304; H330; H334; H340; H350; H360; H370; H372; (H300 + H330); (310 + H330), y (H300 + H310 + H330) | AW38: 1 | BI38: Cantidad manejada (Tabla 10) | BM38: Clasificación de riesgo (Tabla 10) | BQ38: Volatilidad (Tabla 10) | CE38: Tabla 12 | DH38: 3 a 8 | DR38: 2
B39: Grado de Riesgo a la Salud NOM-018-STPS-2000, Modelo rectángulo (ver Tabla 5) | L39: Clasificación de Riesgo | Q39: Categoría de Peligro para la Salud NMX-R-019-SCFI-2011 (ver Tabla 6) | CE39: Valores de ponderación para definir los grupos de exposición homogénea | DH39: 9 a 15 | DR39: 3
DH40: 16 a 25 | DR40: 5
CE41: Vía(s) de ingreso al organismo | CJ41: Valor de ponderación | CN41: Número de POE expuesto (Tabla 12) | CR41: Valor de ponderación | CV41: Tiempo de exposición | CZ41: Valor de ponderación | DH41: 26 a 50 | DR41: 8
B42: Grado 0, Mínimamente peligroso | L42: 0 | Q42: Categoría 5 | DH42: 51 a 100 | DR42: 15
B43: Grado 1, Ligeramente peligroso | L43: 1 | Q43: Categoría 4 | DH43: Más de 100 | DR43: 20
B44: Grado 2, Moderadamente peligroso | L44: 2 | Q44: Categoría 3 | CE44: Aparato respiratorio y piel | CJ44: 8 | CN44: Más de 100 | CR44: 8 | CV44: De 7 y hasta 8 horas | CZ44: 8
B45: Grado 3, Seriamente peligroso | L45: 3 | Q45: Categoría 2
B46: Grado 4, Severamente peligroso | L46: 4 | Q46: Categoría 1 | CE46: Aparato respiratorio | CJ46: 4 | CN46: de 25 a 100 | CR46: 4 | CV46: De 3 y hasta menos de 7 horas | CZ46: 4 | DF46: Tabla 16
...

Sheet ÁREAS
A1: No. Área | B1: Área o Proceso | C1: Departamento | D1: Descripción del proceso de fabricación | E1: El lugar es: | F1: Carac. del proceso | G1: Existe combustión en el área | H1: Variación de temperatura | I1: Variación de presión | J1: Generación de humedad | K1: Sistemas de extracción | L1: Sistemas de inyección de aire | M1: Contorles administrativos
A2: 1
A3: 2
A4: 3
A5: 4
A6: 5
A7: 6
A8: 7
A9: 8
A10: 9
A11: 10
A12: 11
A13: 12
... A61: 60

Sheet Descripción de trabajo
A1: ID de área | B1: Puestos de trabajo | C1: Descripción de actividades del puesto de trabajo | D1: EPP específico

Sheet HDC-Sustancias químicas
A1: INFORMACIÓN DE CAMPO
A2: No. producto | B2: Área | C2: Departamento | D2: Proceso | E2: Nombre químico o comercial de la sustancia | F2: Temp. operación (°C) | G2: Estado físico | H2: Forma física | I2: Fuente emisora | J2: Cantidad manejada/día | K2: Unidades | L2: Vía de ingreso al organismo | M2: Puesto de trabajo | N2: Actividades realizadas | O2: POE | P2: Tiempo de exposición (h) | Q2: Frecuencia de exposción | R2: EPP | S2: Características del proceso | T2: Condiciones del proceso: Generación del contaminante por combustión | U2: Condiciones del proceso: Aumento o disminución de temperatura | V2: Condiciones del proceso: Aumento o disminución de presión | W2: Condiciones del proceso: Generación de humedad | X2: Condición del lugar | Y2: Sistema de extracción | Z2: Inyección de aire | AA2: CONTROLES ADMINISTRATIVOS | AB2: COMENTARIOS
A3: 1 | D3: =IFERROR(VLOOKUP(B3,ÁREAS!$B$2:$D$61,3,FALSE),"") | N3: =IFERROR(VLOOKUP(M3,'Descripción de trabajo'!$B$2:$D$1222,2,FALSE),"") | R3: =IFERROR(VLOOKUP($M3,'Descripción de trabajo'!$B$2:$D$10485,3,FALSE),"") | S3: =IFERROR(VLOOKUP($B3,ÁREAS!$B$2:$L$61,5,FALSE),"") | T3: =IFERROR(VLOOKUP($B3,ÁREAS!$B$2:$L$61,6,FALSE),"") | U3: =IFERROR(VLOOKUP($B3,ÁREAS!$B$2:$L$61,7,FALSE),"") | V3: =IFERROR(VLOOKUP($B3,ÁREAS!$B$2:$L$61,8,FALSE),"") | W3: =IFERROR(VLOOKUP($B3,ÁREAS!$B$2:$L$61,9,FALSE),"") | X3: =IFERROR(VLOOKUP($B3,ÁREAS!$B$2:$L$61,4,FALSE),"") | Y3: =IFERROR(VLOOKUP($B3,ÁREAS!$B$2:$L$61,10,FALSE),"") | Z3: =IFERROR(VLOOKUP($B3,ÁREAS!$B$2:$L$61,11,FALSE),"") | AA3: =IFERROR(VLOOKUP($B3,ÁREAS!$B$2:$M$61,12,FALSE),"")
A4: 2 | D4: =IFERROR(VLOOKUP(B4,ÁREAS!$B$2:$D$61,3,FALSE),"") | N4: =IFERROR(VLOOKUP(M4,'Descripción de trabajo'!$B$2:$D$1222,2,FALSE),"") | R4: =IFERROR(VLOOKUP($M4,'Descripción de trabajo'!$B$2:$D$10485,3,FALSE),"") | S4: =IFERROR(VLOOKUP($B4,ÁREAS!$B$2:$L$61,5,FALSE),"") | T4: =IFERROR(VLOOKUP($B4,ÁREAS!$B$2:$L$61,6,FALSE),"") | U4: =IFERROR(VLOOKUP($B4,ÁREAS!$B$2:$L$61,7,FALSE),"") | V4: =IFERROR(VLOOKUP($B4,ÁREAS!$B$2:$L$61,8,FALSE),"") | W4: =IFERROR(VLOOKUP($B4,ÁREAS!$B$2:$L$61,9,FALSE),"") | X4: =IFERROR(VLOOKUP($B4,ÁREAS!$B$2:$L$61,4,FALSE),"") | Y4: =IFERROR(VLOOKUP($B4,ÁREAS!$B$2:$L$61,10,FALSE),"") | Z4: =IFERROR(VLOOKUP($B4,ÁREAS!$B$2:$L$61,11,FALSE),"") | AA4: =IFERROR(VLOOKUP($B4,ÁREAS!$B$2:$M$61,12,FALSE),"")
A5: 3 | D5: =IFERROR(VLOOKUP(B5,ÁREAS!$B$2:$D$61,3,FALSE),"") | N5: =IFERROR(VLOOKUP(M5,'Descripción de trabajo'!$B$2:$D$1222,2,FALSE),"") | R5: =IFERROR(VLOOKUP($M5,'Descripción de trabajo'!$B$2:$D$10485,3,FALSE),"") | S5: =IFERROR(VLOOKUP($B5,ÁREAS!$B$2:$L$61,5,FALSE),"") | T5: =IFERROR(VLOOKUP($B5,ÁREAS!$B$2:$L$61,6,FALSE),"") | U5: =IFERROR(VLOOKUP($B5,ÁREAS!$B$2:$L$61,7,FALSE),"") | V5: =IFERROR(VLOOKUP($B5,ÁREAS!$B$2:$L$61,8,FALSE),"") | W5: =IFERROR(VLOOKUP($B5,ÁREAS!$B$2:$L$61,9,FALSE),"") | X5: =IFERROR(VLOOKUP($B5,ÁREAS!$B$2:$L$61,4,FALSE),"") | Y5: =IFERROR(VLOOKUP($B5,ÁREAS!$B$2:$L$61,10,FALSE),"") | Z5: =IFERROR(VLOOKUP($B5,ÁREAS!$B$2:$L$61,11,FALSE),"") | AA5: =IFERROR(VLOOKUP($B5,ÁREAS!$B$2:$M$61,12,FALSE),"")
A6: 4 | D6: =IFERROR(VLOOKUP(B6,ÁREAS!$B$2:$D$61,3,FALSE),"") | N6: =IFERROR(VLOOKUP(M6,'Descripción de trabajo'!$B$2:$D$1222,2,FALSE),"") | R6: =IFERROR(VLOOKUP($M6,'Descripción de trabajo'!$B$2:$D$10485,3,FALSE),"") | S6: =IFERROR(VLOOKUP($B6,ÁREAS!$B$2:$L$61,5,FALSE),"") | T6: =IFERROR(VLOOKUP($B6,ÁREAS!$B$2:$L$61,6,FALSE),"") | U6: =IFERROR(VLOOKUP($B6,ÁREAS!$B$2:$L$61,7,FALSE),"") | V6: =IFERROR(VLOOKUP($B6,ÁREAS!$B$2:$L$61,8,FALSE),"") | W6: =IFERROR(VLOOKUP($B6,ÁREAS!$B$2:$L$61,9,FALSE),"") | X6: =IFERROR(VLOOKUP($B6,ÁREAS!$B$2:$L$61,4,FALSE),"") | Y6: =IFERROR(VLOOKUP($B6,ÁREAS!$B$2:$L$61,10,FALSE),"") | Z6: =IFERROR(VLOOKUP($B6,ÁREAS!$B$2:$L$61,11,FALSE),"") | AA6: =IFERROR(VLOOKUP($B6,ÁREAS!$B$2:$M$61,12,FALSE),"")
A7: 5 | D7: =IFERROR(VLOOKUP(B7,ÁREAS!$B$2:$D$61,3,FALSE),"") | N7: =IFERROR(VLOOKUP(M7,'Descripción de trabajo'!$B$2:$D$1222,2,FALSE),"") | R7: =IFERROR(VLOOKUP($M7,'Descripción de trabajo'!$B$2:$D$10485,3,FALSE),"") | S7: =IFERROR(VLOOKUP($B7,ÁREAS!$B$2:$L$61,5,FALSE),"") | T7: =IFERROR(VLOOKUP($B7,ÁREAS!$B$2:$L$61,6,FALSE),"") | U7: =IFERROR(VLOOKUP($B7,ÁREAS!$B$2:$L$61,7,FALSE),"") | V7: =IFERROR(VLOOKUP($B7,ÁREAS!$B$2:$L$61,8,FALSE),"") | W7: =IFERROR(VLOOKUP($B7,ÁREAS!$B$2:$L$61,9,FALSE),"") | X7: =IFERROR(VLOOKUP($B7,ÁREAS!$B$2:$L$61,4,FALSE),"") | Y7: =IFERROR(VLOOKUP($B7,ÁREAS!$B$2:$L$61,10,FALSE),"") | Z7: =IFERROR(VLOOKUP($B7,ÁREAS!$B$2:$L$61,11,FALSE),"") | AA7: =IFERROR(VLOOKUP($B7,ÁREAS!$B$2:$M$61,12,FALSE),"")
A8: 6 | D8: =IFERROR(VLOOKUP(B8,ÁREAS!$B$2:$D$61,3,FALSE),"") | N8: =IFERROR(VLOOKUP(M8,'Descripción de trabajo'!$B$2:$D$1222,2,FALSE),"") | R8: =IFERROR(VLOOKUP($M8,'Descripción de trabajo'!$B$2:$D$10485,3,FALSE),"") | S8: =IFERROR(VLOOKUP($B8,ÁREAS!$B$2:$L$61,5,FALSE),"") | T8: =IFERROR(VLOOKUP($B8,ÁREAS!$B$2:$L$61,6,FALSE),"") | U8: =IFERROR(VLOOKUP($B8,ÁREAS!$B$2:$L$61,7,FALSE),"") | V8: =IFERROR(VLOOKUP($B8,ÁREAS!$B$2:$L$61,8,FALSE),"") | W8: =IFERROR(VLOOKUP($B8,ÁREAS!$B$2:$L$61,9,FALSE),"") | X8: =IFERROR(VLOOKUP($B8,ÁREAS!$B$2:$L$61,4,FALSE),"") | Y8: =IFERROR(VLOOKUP($B8,ÁREAS!$B$2:$L$61,10,FALSE),"") | Z8: =IFERROR(VLOOKUP($B8,ÁREAS!$B$2:$L$61,11,FALSE),"") | AA8: =IFERROR(VLOOKUP($B8,ÁREAS!$B$2:$M$61,12,FALSE),"")
A9: 7 | D9: =IFERROR(VLOOKUP(B9,ÁREAS!$B$2:$D$61,3,FALSE),"") | N9: =IFERROR(VLOOKUP(M9,'Descripción de trabajo'!$B$2:$D$1222,2,FALSE),"") | R9: =IFERROR(VLOOKUP($M9,'Descripción de trabajo'!$B$2:$D$10485,3,FALSE),"") | S9: =IFERROR(VLOOKUP($B9,ÁREAS!$B$2:$L$61,5,FALSE),"") | T9: =IFERROR(VLOOKUP($B9,ÁREAS!$B$2:$L$61,6,FALSE),"") | U9: =IFERROR(VLOOKUP($B9,ÁREAS!$B$2:$L$61,7,FALSE),"") | V9: =IFERROR(VLOOKUP($B9,ÁREAS!$B$2:$L$61,8,FALSE),"") | W9: =IFERROR(VLOOKUP($B9,ÁREAS!$B$2:$L$61,9,FALSE),"") | X9: =IFERROR(VLOOKUP($B9,ÁREAS!$B$2:$L$61,4,FALSE),"") | Y9: =IFERROR(VLOOKUP($B9,ÁREAS!$B$2:$L$61,10,FALSE),"") | Z9: =IFERROR(VLOOKUP($B9,ÁREAS!$B$2:$L$61,11,FALSE),"") | AA9: =IFERROR(VLOOKUP($B9,ÁREAS!$B$2:$M$61,12,FALSE),"")
A10: 8 | D10: =IFERROR(VLOOKUP(B10,ÁREAS!$B$2:$D$61,3,FALSE),"") | N10: =IFERROR(VLOOKUP(M10,'Descripción de trabajo'!$B$2:$D$1222,2,FALSE),"") | R10: =IFERROR(VLOOKUP($M10,'Descripción de trabajo'!$B$2:$D$10485,3,FALSE),"") | S10: =IFERROR(VLOOKUP($B10,ÁREAS!$B$2:$L$61,5,FALSE),"") | T10: =IFERROR(VLOOKUP($B10,ÁREAS!$B$2:$L$61,6,FALSE),"") | U10: =IFERROR(VLOOKUP($B10,ÁREAS!$B$2:$L$61,7,FALSE),"") | V10: =IFERROR(VLOOKUP($B10,ÁREAS!$B$2:$L$61,8,FALSE),"") | W10: =IFERROR(VLOOKUP($B10,ÁREAS!$B$2:$L$61,9,FALSE),"") | X10: =IFERROR(VLOOKUP($B10,ÁREAS!$B$2:$L$61,4,FALSE),"") | Y10: =IFERROR(VLOOKUP($B10,ÁREAS!$B$2:$L$61,10,FALSE),"") | Z10: =IFERROR(VLOOKUP($B10,ÁREAS!$B$2:$L$61,11,FALSE),"") | AA10: =IFERROR(VLOOKUP($B10,ÁREAS!$B$2:$M$61,12,FALSE),"")
A11: 9 | D11: =IFERROR(VLOOKUP(B11,ÁREAS!$B$2:$D$61,3,FALSE),"") | N11: =IFERROR(VLOOKUP(M11,'Descripción de trabajo'!$B$2:$D$1222,2,FALSE),"") | R11: =IFERROR(VLOOKUP($M11,'Descripción de trabajo'!$B$2:$D$10485,3,FALSE),"") | S11: =IFERROR(VLOOKUP($B11,ÁREAS!$B$2:$L$61,5,FALSE),"") | T11: =IFERROR(VLOOKUP($B11,ÁREAS!$B$2:$L$61,6,FALSE),"") | U11: =IFERROR(VLOOKUP($B11,ÁREAS!$B$2:$L$61,7,FALSE),"") | V11: =IFERROR(VLOOKUP($B11,ÁREAS!$B$2:$L$61,8,FALSE),"") | W11: =IFERROR(VLOOKUP($B11,ÁREAS!$B$2:$L$61,9,FALSE),"") | X11: =IFERROR(VLOOKUP($B11,ÁREAS!$B$2:$L$61,4,FALSE),"") | Y11: =IFERROR(VLOOKUP($B11,ÁREAS!$B$2:$L$61,10,FALSE),"") | Z11: =IFERROR(VLOOKUP($B11,ÁREAS!$B$2:$L$61,11,FALSE),"") | AA11: =IFERROR(VLOOKUP($B11,ÁREAS!$B$2:$M$61,12,FALSE),"")
A12: 10 | D12: =IFERROR(VLOOKUP(B12,ÁREAS!$B$2:$D$61,3,FALSE),"") | N12: =IFERROR(VLOOKUP(M12,'Descripción de trabajo'!$B$2:$D$1222,2,FALSE),"") | R12: =IFERROR(VLOOKUP($M12,'Descripción de trabajo'!$B$2:$D$10485,3,FALSE),"") | S12: =IFERROR(VLOOKUP($B12,ÁREAS!$B$2:$L$61,5,FALSE),"") | T12: =IFERROR(VLOOKUP($B12,ÁREAS!$B$2:$L$61,6,FALSE),"") | U12: =IFERROR(VLOOKUP($B12,ÁREAS!$B$2:$L$61,7,FALSE),"") | V12: =IFERROR(VLOOKUP($B12,ÁREAS!$B$2:$L$61,8,FALSE),"") | W12: =IFERROR(VLOOKUP($B12,ÁREAS!$B$2:$L$61,9,FALSE),"") | X12: =IFERROR(VLOOKUP($B12,ÁREAS!$B$2:$L$61,4,FALSE),"") | Y12: =IFERROR(VLOOKUP($B12,ÁREAS!$B$2:$L$61,10,FALSE),"") | Z12: =IFERROR(VLOOKUP($B12,ÁREAS!$B$2:$L$61,11,FALSE),"") | AA12: =IFERROR(VLOOKUP($B12,ÁREAS!$B$2:$M$61,12,FALSE),"")
A13: 11 | D13: =IFERROR(VLOOKUP(B13,ÁREAS!$B$2:$D$61,3,FALSE),"") | N13: =IFERROR(VLOOKUP(M13,'Descripción de trabajo'!$B$2:$D$1222,2,FALSE),"") | R13: =IFERROR(VLOOKUP($M13,'Descripción de trabajo'!$B$2:$D$10485,3,FALSE),"") | S13: =IFERROR(VLOOKUP($B13,ÁREAS!$B$2:$L$61,5,FALSE),"") | T13: =IFERROR(VLOOKUP($B13,ÁREAS!$B$2:$L$61,6,FALSE),"") | U13: =IFERROR(VLOOKUP($B13,ÁREAS!$B$2:$L$61,7,FALSE),"") | V13: =IFERROR(VLOOKUP($B13,ÁREAS!$B$2:$L$61,8,FALSE),"") | W13: =IFERROR(VLOOKUP($B13,ÁREAS!$B$2:$L$61,9,FALSE),"") | X13: =IFERROR(VLOOKUP($B13,ÁREAS!$B$2:$L$61,4,FALSE),"") | Y13: =IFERROR(VLOOKUP($B13,ÁREAS!$B$2:$L$61,10,FALSE),"") | Z13: =IFERROR(VLOOKUP($B13,ÁREAS!$B$2:$L$61,11,FALSE),"") | AA13: =IFERROR(VLOOKUP($B13,ÁREAS!$B$2:$M$61,12,FALSE),"")
A14: 12 | D14: =IFERROR(VLOOKUP(B14,ÁREAS!$B$2:$D$61,3,FALSE),"") | N14: =IFERROR(VLOOKUP(M14,'Descripción de trabajo'!$B$2:$D$1222,2,FALSE),"") | R14: =IFERROR(VLOOKUP($M14,'Descripción de trabajo'!$B$2:$D$10485,3,FALSE),"") | S14: =IFERROR(VLOOKUP($B14,ÁREAS!$B$2:$L$61,5,FALSE),"") | T14: =IFERROR(VLOOKUP($B14,ÁREAS!$B$2:$L$61,6,FALSE),"") | U14: =IFERROR(VLOOKUP($B14,ÁREAS!$B$2:$L$61,7,FALSE),"") | V14: =IFERROR(VLOOKUP($B14,ÁREAS!$B$2:$L$61,8,FALSE),"") | W14: =IFERROR(VLOOKUP($B14,ÁREAS!$B$2:$L$61,9,FALSE),"") | X14: =IFERROR(VLOOKUP($B14,ÁREAS!$B$2:$L$61,4,FALSE),"") | Y14: =IFERROR(VLOOKUP($B14,ÁREAS!$B$2:$L$61,10,FALSE),"") | Z14: =IFERROR(VLOOKUP($B14,ÁREAS!$B$2:$L$61,11,FALSE),"") | AA14: =IFERROR(VLOOKUP($B14,ÁREAS!$B$2:$M$61,12,FALSE),"")
... A1602: 1600 | D1602: =IFERROR(VLOOKUP(B1602,ÁREAS!$B$2:$D$61,3,FALSE),"") | N1602: =IFERROR(VLOOKUP(M1602,'Descripción de trabajo'!$B$2:$D$1222,2,FALSE),"") | R1602: =IFERROR(VLOOKUP($M1602,'Descripción de trabajo'!$B$2:$D$10485,3,FALSE),"") | S1602: =IFERROR(VLOOKUP($B1602,ÁREAS!$B$2:$L$61,5,FALSE),"") | T1602: =IFERROR(VLOOKUP($B1602,ÁREAS!$B$2:$L$61,6,FALSE),"") | U1602: =IFERROR(VLOOKUP($B1602,ÁREAS!$B$2:$L$61,7,FALSE),"") | V1602: =IFERROR(VLOOKUP($B1602,ÁREAS!$B$2:$L$61,8,FALSE),"") | W1602: =IFERROR(VLOOKUP($B1602,ÁREAS!$B$2:$L$61,9,FALSE),"") | X1602: =IFERROR(VLOOKUP($B1602,ÁREAS!$B$2:$L$61,4,FALSE),"") | Y1602: =IFERROR(VLOOKUP($B1602,ÁREAS!$B$2:$L$61,10,FALSE),"") | Z1602: =IFERROR(VLOOKUP($B1602,ÁREAS!$B$2:$L$61,11,FALSE),"") | AA1602: =IFERROR(VLOOKUP($B1602,ÁREAS!$B$2:$M$61,12,FALSE),"")

Sheet HDCA1_Id. productos
A1: #VALUE! | D1: EMPRESA QUE REALIZA EL RECONOCIMIENTO | M1: RP-PE-SQ.HC03
D2: RELATIVO AL PROCESO | M2: Revisión: 2026-03-27
D3: IDENTIFICACIÓN DE PRODUCTOS EN EL CENTRO DE TRABAJO | M3: Emisión: 2026-03-28
M4: No. de Rev: 3.1
A6: ID de informe | D6: ='DATOS GENERALES'!B16 -> MD32026-SGC091-TMSQIR-01A | J6: Fecha de elaboración | M6: ='DATOS GENERALES'!B19 -> 2026-04-30
A7: Nombre, denominación o razón social | F7: ='DATOS GENERALES'!B2 -> 0
A8: Nombre y puesto de quien realizó | F8: =BDG!H2&"/Líder de proyecto" -> Angel Gustavo Medina Garcia/Líder de proyecto | M8: Firma
A9: Nombre y puesto de quien revisó | F9: =BDG!I2&"/Líder de proyecto" -> Alfredo Solano Bustamante/Líder de proyecto | M9: Firma
A11: No. Producto | B11: Área | C11: Departamento | D11: Nombre químico o comercial de la sustancia | E11: Temp. Operación (°C) | F11: Estado físico | G11: Forma física | H11: Fuente emisora | I11: Cantidad manejada/día | J11: Unidad | K11: Vía de ingreso al organismo | L11: Puesto de trabajo | M11: POE | N11: Tiempo de exposición (h) | O11: Frecuencia de exposición
A12: 1 | B12: =IF('HDC-Sustancias químicas'!B3="","",'HDC-Sustancias químicas'!B3) | C12: =IF('HDC-Sustancias químicas'!C3="","",'HDC-Sustancias químicas'!C3) | D12: =IF('HDC-Sustancias químicas'!E3="","",'HDC-Sustancias químicas'!E3) | E12: =IF('HDC-Sustancias químicas'!F3="","",'HDC-Sustancias químicas'!F3) | F12: =IF('HDC-Sustancias químicas'!G3="","",'HDC-Sustancias químicas'!G3) | G12: =IF('HDC-Sustancias químicas'!H3="","",'HDC-Sustancias químicas'!H3) | H12: =IF('HDC-Sustancias químicas'!I3="","",'HDC-Sustancias químicas'!I3) | I12: =IF('HDC-Sustancias químicas'!J3="","",'HDC-Sustancias químicas'!J3) | J12: =IF('HDC-Sustancias químicas'!K3="","",'HDC-Sustancias químicas'!K3) | K12: =IF('HDC-Sustancias químicas'!L3="","",'HDC-Sustancias químicas'!L3) | L12: =IF('HDC-Sustancias químicas'!M3="","",'HDC-Sustancias químicas'!M3) | M12: =IF('HDC-Sustancias químicas'!O3="","",'HDC-Sustancias químicas'!O3) | N12: =IF('HDC-Sustancias químicas'!O3="","",IF('HDC-Sustancias químicas'!P3<1,"<1",'HDC-Sustancias químicas'!P3)) | O12: =IF('HDC-Sustancias químicas'!Q3="","",'HDC-Sustancias químicas'!Q3)
A13: 2 | B13: =IF('HDC-Sustancias químicas'!B4="","",'HDC-Sustancias químicas'!B4) | C13: =IF('HDC-Sustancias químicas'!C4="","",'HDC-Sustancias químicas'!C4) | D13: =IF('HDC-Sustancias químicas'!E4="","",'HDC-Sustancias químicas'!E4) | E13: =IF('HDC-Sustancias químicas'!F4="","",'HDC-Sustancias químicas'!F4) | F13: =IF('HDC-Sustancias químicas'!G4="","",'HDC-Sustancias químicas'!G4) | G13: =IF('HDC-Sustancias químicas'!H4="","",'HDC-Sustancias químicas'!H4) | H13: =IF('HDC-Sustancias químicas'!I4="","",'HDC-Sustancias químicas'!I4) | I13: =IF('HDC-Sustancias químicas'!J4="","",'HDC-Sustancias químicas'!J4) | J13: =IF('HDC-Sustancias químicas'!K4="","",'HDC-Sustancias químicas'!K4) | K13: =IF('HDC-Sustancias químicas'!L4="","",'HDC-Sustancias químicas'!L4) | L13: =IF('HDC-Sustancias químicas'!M4="","",'HDC-Sustancias químicas'!M4) | M13: =IF('HDC-Sustancias químicas'!O4="","",'HDC-Sustancias químicas'!O4) | N13: =IF('HDC-Sustancias químicas'!O4="","",IF('HDC-Sustancias químicas'!P4<1,"<1",'HDC-Sustancias químicas'!P4)) | O13: =IF('HDC-Sustancias químicas'!Q4="","",'HDC-Sustancias químicas'!Q4)
A14: 3 | B14: =IF('HDC-Sustancias químicas'!B5="","",'HDC-Sustancias químicas'!B5) | C14: =IF('HDC-Sustancias químicas'!C5="","",'HDC-Sustancias químicas'!C5) | D14: =IF('HDC-Sustancias químicas'!E5="","",'HDC-Sustancias químicas'!E5) | E14: =IF('HDC-Sustancias químicas'!F5="","",'HDC-Sustancias químicas'!F5) | F14: =IF('HDC-Sustancias químicas'!G5="","",'HDC-Sustancias químicas'!G5) | G14: =IF('HDC-Sustancias químicas'!H5="","",'HDC-Sustancias químicas'!H5) | H14: =IF('HDC-Sustancias químicas'!I5="","",'HDC-Sustancias químicas'!I5) | I14: =IF('HDC-Sustancias químicas'!J5="","",'HDC-Sustancias químicas'!J5) | J14: =IF('HDC-Sustancias químicas'!K5="","",'HDC-Sustancias químicas'!K5) | K14: =IF('HDC-Sustancias químicas'!L5="","",'HDC-Sustancias químicas'!L5) | L14: =IF('HDC-Sustancias químicas'!M5="","",'HDC-Sustancias químicas'!M5) | M14: =IF('HDC-Sustancias químicas'!O5="","",'HDC-Sustancias químicas'!O5) | N14: =IF('HDC-Sustancias químicas'!O5="","",IF('HDC-Sustancias químicas'!P5<1,"<1",'HDC-Sustancias químicas'!P5)) | O14: =IF('HDC-Sustancias químicas'!Q5="","",'HDC-Sustancias químicas'!Q5)
A15: 4 | B15: =IF('HDC-Sustancias químicas'!B6="","",'HDC-Sustancias químicas'!B6) | C15: =IF('HDC-Sustancias químicas'!C6="","",'HDC-Sustancias químicas'!C6) | D15: =IF('HDC-Sustancias químicas'!E6="","",'HDC-Sustancias químicas'!E6) | E15: =IF('HDC-Sustancias químicas'!F6="","",'HDC-Sustancias químicas'!F6) | F15: =IF('HDC-Sustancias químicas'!G6="","",'HDC-Sustancias químicas'!G6) | G15: =IF('HDC-Sustancias químicas'!H6="","",'HDC-Sustancias químicas'!H6) | H15: =IF('HDC-Sustancias químicas'!I6="","",'HDC-Sustancias químicas'!I6) | I15: =IF('HDC-Sustancias químicas'!J6="","",'HDC-Sustancias químicas'!J6) | J15: =IF('HDC-Sustancias químicas'!K6="","",'HDC-Sustancias químicas'!K6) | K15: =IF('HDC-Sustancias químicas'!L6="","",'HDC-Sustancias químicas'!L6) | L15: =IF('HDC-Sustancias químicas'!M6="","",'HDC-Sustancias químicas'!M6) | M15: =IF('HDC-Sustancias químicas'!O6="","",'HDC-Sustancias químicas'!O6) | N15: =IF('HDC-Sustancias químicas'!O6="","",IF('HDC-Sustancias químicas'!P6<1,"<1",'HDC-Sustancias químicas'!P6)) | O15: =IF('HDC-Sustancias químicas'!Q6="","",'HDC-Sustancias químicas'!Q6)
A16: 5 | B16: =IF('HDC-Sustancias químicas'!B7="","",'HDC-Sustancias químicas'!B7) | C16: =IF('HDC-Sustancias químicas'!C7="","",'HDC-Sustancias químicas'!C7) | D16: =IF('HDC-Sustancias químicas'!E7="","",'HDC-Sustancias químicas'!E7) | E16: =IF('HDC-Sustancias químicas'!F7="","",'HDC-Sustancias químicas'!F7) | F16: =IF('HDC-Sustancias químicas'!G7="","",'HDC-Sustancias químicas'!G7) | G16: =IF('HDC-Sustancias químicas'!H7="","",'HDC-Sustancias químicas'!H7) | H16: =IF('HDC-Sustancias químicas'!I7="","",'HDC-Sustancias químicas'!I7) | I16: =IF('HDC-Sustancias químicas'!J7="","",'HDC-Sustancias químicas'!J7) | J16: =IF('HDC-Sustancias químicas'!K7="","",'HDC-Sustancias químicas'!K7) | K16: =IF('HDC-Sustancias químicas'!L7="","",'HDC-Sustancias químicas'!L7) | L16: =IF('HDC-Sustancias químicas'!M7="","",'HDC-Sustancias químicas'!M7) | M16: =IF('HDC-Sustancias químicas'!O7="","",'HDC-Sustancias químicas'!O7) | N16: =IF('HDC-Sustancias químicas'!O7="","",IF('HDC-Sustancias químicas'!P7<1,"<1",'HDC-Sustancias químicas'!P7)) | O16: =IF('HDC-Sustancias químicas'!Q7="","",'HDC-Sustancias químicas'!Q7)
A17: 6 | B17: =IF('HDC-Sustancias químicas'!B8="","",'HDC-Sustancias químicas'!B8) | C17: =IF('HDC-Sustancias químicas'!C8="","",'HDC-Sustancias químicas'!C8) | D17: =IF('HDC-Sustancias químicas'!E8="","",'HDC-Sustancias químicas'!E8) | E17: =IF('HDC-Sustancias químicas'!F8="","",'HDC-Sustancias químicas'!F8) | F17: =IF('HDC-Sustancias químicas'!G8="","",'HDC-Sustancias químicas'!G8) | G17: =IF('HDC-Sustancias químicas'!H8="","",'HDC-Sustancias químicas'!H8) | H17: =IF('HDC-Sustancias químicas'!I8="","",'HDC-Sustancias químicas'!I8) | I17: =IF('HDC-Sustancias químicas'!J8="","",'HDC-Sustancias químicas'!J8) | J17: =IF('HDC-Sustancias químicas'!K8="","",'HDC-Sustancias químicas'!K8) | K17: =IF('HDC-Sustancias químicas'!L8="","",'HDC-Sustancias químicas'!L8) | L17: =IF('HDC-Sustancias químicas'!M8="","",'HDC-Sustancias químicas'!M8) | M17: =IF('HDC-Sustancias químicas'!O8="","",'HDC-Sustancias químicas'!O8) | N17: =IF('HDC-Sustancias químicas'!O8="","",IF('HDC-Sustancias químicas'!P8<1,"<1",'HDC-Sustancias químicas'!P8)) | O17: =IF('HDC-Sustancias químicas'!Q8="","",'HDC-Sustancias químicas'!Q8)
A18: 7 | B18: =IF('HDC-Sustancias químicas'!B9="","",'HDC-Sustancias químicas'!B9) | C18: =IF('HDC-Sustancias químicas'!C9="","",'HDC-Sustancias químicas'!C9) | D18: =IF('HDC-Sustancias químicas'!E9="","",'HDC-Sustancias químicas'!E9) | E18: =IF('HDC-Sustancias químicas'!F9="","",'HDC-Sustancias químicas'!F9) | F18: =IF('HDC-Sustancias químicas'!G9="","",'HDC-Sustancias químicas'!G9) | G18: =IF('HDC-Sustancias químicas'!H9="","",'HDC-Sustancias químicas'!H9) | H18: =IF('HDC-Sustancias químicas'!I9="","",'HDC-Sustancias químicas'!I9) | I18: =IF('HDC-Sustancias químicas'!J9="","",'HDC-Sustancias químicas'!J9) | J18: =IF('HDC-Sustancias químicas'!K9="","",'HDC-Sustancias químicas'!K9) | K18: =IF('HDC-Sustancias químicas'!L9="","",'HDC-Sustancias químicas'!L9) | L18: =IF('HDC-Sustancias químicas'!M9="","",'HDC-Sustancias químicas'!M9) | M18: =IF('HDC-Sustancias químicas'!O9="","",'HDC-Sustancias químicas'!O9) | N18: =IF('HDC-Sustancias químicas'!O9="","",IF('HDC-Sustancias químicas'!P9<1,"<1",'HDC-Sustancias químicas'!P9)) | O18: =IF('HDC-Sustancias químicas'!Q9="","",'HDC-Sustancias químicas'!Q9)
A19: 8 | B19: =IF('HDC-Sustancias químicas'!B10="","",'HDC-Sustancias químicas'!B10) | C19: =IF('HDC-Sustancias químicas'!C10="","",'HDC-Sustancias químicas'!C10) | D19: =IF('HDC-Sustancias químicas'!E10="","",'HDC-Sustancias químicas'!E10) | E19: =IF('HDC-Sustancias químicas'!F10="","",'HDC-Sustancias químicas'!F10) | F19: =IF('HDC-Sustancias químicas'!G10="","",'HDC-Sustancias químicas'!G10) | G19: =IF('HDC-Sustancias químicas'!H10="","",'HDC-Sustancias químicas'!H10) | H19: =IF('HDC-Sustancias químicas'!I10="","",'HDC-Sustancias químicas'!I10) | I19: =IF('HDC-Sustancias químicas'!J10="","",'HDC-Sustancias químicas'!J10) | J19: =IF('HDC-Sustancias químicas'!K10="","",'HDC-Sustancias químicas'!K10) | K19: =IF('HDC-Sustancias químicas'!L10="","",'HDC-Sustancias químicas'!L10) | L19: =IF('HDC-Sustancias químicas'!M10="","",'HDC-Sustancias químicas'!M10) | M19: =IF('HDC-Sustancias químicas'!O10="","",'HDC-Sustancias químicas'!O10) | N19: =IF('HDC-Sustancias químicas'!O10="","",IF('HDC-Sustancias químicas'!P10<1,"<1",'HDC-Sustancias químicas'!P10)) | O19: =IF('HDC-Sustancias químicas'!Q10="","",'HDC-Sustancias químicas'!Q10)
A20: 9 | B20: =IF('HDC-Sustancias químicas'!B11="","",'HDC-Sustancias químicas'!B11) | C20: =IF('HDC-Sustancias químicas'!C11="","",'HDC-Sustancias químicas'!C11) | D20: =IF('HDC-Sustancias químicas'!E11="","",'HDC-Sustancias químicas'!E11) | E20: =IF('HDC-Sustancias químicas'!F11="","",'HDC-Sustancias químicas'!F11) | F20: =IF('HDC-Sustancias químicas'!G11="","",'HDC-Sustancias químicas'!G11) | G20: =IF('HDC-Sustancias químicas'!H11="","",'HDC-Sustancias químicas'!H11) | H20: =IF('HDC-Sustancias químicas'!I11="","",'HDC-Sustancias químicas'!I11) | I20: =IF('HDC-Sustancias químicas'!J11="","",'HDC-Sustancias químicas'!J11) | J20: =IF('HDC-Sustancias químicas'!K11="","",'HDC-Sustancias químicas'!K11) | K20: =IF('HDC-Sustancias químicas'!L11="","",'HDC-Sustancias químicas'!L11) | L20: =IF('HDC-Sustancias químicas'!M11="","",'HDC-Sustancias químicas'!M11) | M20: =IF('HDC-Sustancias químicas'!O11="","",'HDC-Sustancias químicas'!O11) | N20: =IF('HDC-Sustancias químicas'!O11="","",IF('HDC-Sustancias químicas'!P11<1,"<1",'HDC-Sustancias químicas'!P11)) | O20: =IF('HDC-Sustancias químicas'!Q11="","",'HDC-Sustancias químicas'!Q11)
A21: 10 | B21: =IF('HDC-Sustancias químicas'!B12="","",'HDC-Sustancias químicas'!B12) | C21: =IF('HDC-Sustancias químicas'!C12="","",'HDC-Sustancias químicas'!C12) | D21: =IF('HDC-Sustancias químicas'!E12="","",'HDC-Sustancias químicas'!E12) | E21: =IF('HDC-Sustancias químicas'!F12="","",'HDC-Sustancias químicas'!F12) | F21: =IF('HDC-Sustancias químicas'!G12="","",'HDC-Sustancias químicas'!G12) | G21: =IF('HDC-Sustancias químicas'!H12="","",'HDC-Sustancias químicas'!H12) | H21: =IF('HDC-Sustancias químicas'!I12="","",'HDC-Sustancias químicas'!I12) | I21: =IF('HDC-Sustancias químicas'!J12="","",'HDC-Sustancias químicas'!J12) | J21: =IF('HDC-Sustancias químicas'!K12="","",'HDC-Sustancias químicas'!K12) | K21: =IF('HDC-Sustancias químicas'!L12="","",'HDC-Sustancias químicas'!L12) | L21: =IF('HDC-Sustancias químicas'!M12="","",'HDC-Sustancias químicas'!M12) | M21: =IF('HDC-Sustancias químicas'!O12="","",'HDC-Sustancias químicas'!O12) | N21: =IF('HDC-Sustancias químicas'!O12="","",IF('HDC-Sustancias químicas'!P12<1,"<1",'HDC-Sustancias químicas'!P12)) | O21: =IF('HDC-Sustancias químicas'!Q12="","",'HDC-Sustancias químicas'!Q12)
A22: 11 | B22: =IF('HDC-Sustancias químicas'!B13="","",'HDC-Sustancias químicas'!B13) | C22: =IF('HDC-Sustancias químicas'!C13="","",'HDC-Sustancias químicas'!C13) | D22: =IF('HDC-Sustancias químicas'!E13="","",'HDC-Sustancias químicas'!E13) | E22: =IF('HDC-Sustancias químicas'!F13="","",'HDC-Sustancias químicas'!F13) | F22: =IF('HDC-Sustancias químicas'!G13="","",'HDC-Sustancias químicas'!G13) | G22: =IF('HDC-Sustancias químicas'!H13="","",'HDC-Sustancias químicas'!H13) | H22: =IF('HDC-Sustancias químicas'!I13="","",'HDC-Sustancias químicas'!I13) | I22: =IF('HDC-Sustancias químicas'!J13="","",'HDC-Sustancias químicas'!J13) | J22: =IF('HDC-Sustancias químicas'!K13="","",'HDC-Sustancias químicas'!K13) | K22: =IF('HDC-Sustancias químicas'!L13="","",'HDC-Sustancias químicas'!L13) | L22: =IF('HDC-Sustancias químicas'!M13="","",'HDC-Sustancias químicas'!M13) | M22: =IF('HDC-Sustancias químicas'!O13="","",'HDC-Sustancias químicas'!O13) | N22: =IF('HDC-Sustancias químicas'!O13="","",IF('HDC-Sustancias químicas'!P13<1,"<1",'HDC-Sustancias químicas'!P13)) | O22: =IF('HDC-Sustancias químicas'!Q13="","",'HDC-Sustancias químicas'!Q13)
A23: 12 | B23: =IF('HDC-Sustancias químicas'!B14="","",'HDC-Sustancias químicas'!B14) | C23: =IF('HDC-Sustancias químicas'!C14="","",'HDC-Sustancias químicas'!C14) | D23: =IF('HDC-Sustancias químicas'!E14="","",'HDC-Sustancias químicas'!E14) | E23: =IF('HDC-Sustancias químicas'!F14="","",'HDC-Sustancias químicas'!F14) | F23: =IF('HDC-Sustancias químicas'!G14="","",'HDC-Sustancias químicas'!G14) | G23: =IF('HDC-Sustancias químicas'!H14="","",'HDC-Sustancias químicas'!H14) | H23: =IF('HDC-Sustancias químicas'!I14="","",'HDC-Sustancias químicas'!I14) | I23: =IF('HDC-Sustancias químicas'!J14="","",'HDC-Sustancias químicas'!J14) | J23: =IF('HDC-Sustancias químicas'!K14="","",'HDC-Sustancias químicas'!K14) | K23: =IF('HDC-Sustancias químicas'!L14="","",'HDC-Sustancias químicas'!L14) | L23: =IF('HDC-Sustancias químicas'!M14="","",'HDC-Sustancias químicas'!M14) | M23: =IF('HDC-Sustancias químicas'!O14="","",'HDC-Sustancias químicas'!O14) | N23: =IF('HDC-Sustancias químicas'!O14="","",IF('HDC-Sustancias químicas'!P14<1,"<1",'HDC-Sustancias químicas'!P14)) | O23: =IF('HDC-Sustancias químicas'!Q14="","",'HDC-Sustancias químicas'!Q14)
... A111: 100 | B111: =IF('HDC-Sustancias químicas'!B102="","",'HDC-Sustancias químicas'!B102) | C111: =IF('HDC-Sustancias químicas'!C102="","",'HDC-Sustancias químicas'!C102) | D111: =IF('HDC-Sustancias químicas'!E102="","",'HDC-Sustancias químicas'!E102) | E111: =IF('HDC-Sustancias químicas'!F102="","",'HDC-Sustancias químicas'!F102) | F111: =IF('HDC-Sustancias químicas'!G102="","",'HDC-Sustancias químicas'!G102) | G111: =IF('HDC-Sustancias químicas'!H102="","",'HDC-Sustancias químicas'!H102) | H111: =IF('HDC-Sustancias químicas'!I102="","",'HDC-Sustancias químicas'!I102) | I111: =IF('HDC-Sustancias químicas'!J102="","",'HDC-Sustancias químicas'!J102) | J111: =IF('HDC-Sustancias químicas'!K102="","",'HDC-Sustancias químicas'!K102) | K111: =IF('HDC-Sustancias químicas'!L102="","",'HDC-Sustancias químicas'!L102) | L111: =IF('HDC-Sustancias químicas'!M102="","",'HDC-Sustancias químicas'!M102) | M111: =IF('HDC-Sustancias químicas'!O102="","",'HDC-Sustancias químicas'!O102) | N111: =IF('HDC-Sustancias químicas'!O102="","",IF('HDC-Sustancias químicas'!P102<1,"<1",'HDC-Sustancias químicas'!P102)) | O111: =IF('HDC-Sustancias químicas'!Q102="","",'HDC-Sustancias químicas'!Q102)

Sheet HDCA1_Id. Áreas
A1: #VALUE! | C1: EMPRESA QUE REALIZA EL RECONOCIMIENTO | K1: RP-PE-SQ.HC03
C2: RELATIVO AL PROCESO | K2: Revisión: 2026-03-27
C3: IDENTIFICACIÓN DE ÁREAS | K3: Emisión: 2026-03-28
K4: No. de Rev: 3.1
A6: ID de informe | C6: ='DATOS GENERALES'!B16 -> MD32026-SGC091-TMSQIR-01A | I6: Fecha de elaboración | K6: ='DATOS GENERALES'!B19 -> 2026-04-30
A7: Nombre, denominación o razón social | F7: ='DATOS GENERALES'!B2 -> 0
A8: Nombre y puesto de quien realizó | F8: =BDG!H2&"/Líder de proyecto" -> Angel Gustavo Medina Garcia/Líder de proyecto | K8: Firma
A9: Nombre y puesto de quien revisó | F9: =BDG!I2&"/Líder de proyecto" -> Alfredo Solano Bustamante/Líder de proyecto | K9: Firma
E11: Características del proceso | I11: Controles técnicos
A12: No. Área | B12: Área o proceso | C12: Descripción del proceso de fabricación | D12: El lugar es: | E12: Carac. del proceso | F12: Existe combustión en el área | G12: Variación de Temperatura | H12: Variación de presión | I12: Generación de humedad | J12: Sistemas de extracción | K12: Sistemas de inyección de aire | L12: Controles administrativos
A13: 1 | B13: =IF(ÁREAS!B2="","",ÁREAS!B2) | C13: =IF(ÁREAS!D2="","",ÁREAS!D2) | D13: =IF(ÁREAS!E2="","",ÁREAS!E2) | E13: =IF(ÁREAS!F2="","",ÁREAS!F2) | F13: =IF(ÁREAS!G2="","",ÁREAS!G2) | G13: =IF(ÁREAS!H2="","",ÁREAS!H2) | H13: =IF(ÁREAS!I2="","",ÁREAS!I2) | I13: =IF(ÁREAS!J2="","",ÁREAS!J2) | J13: =IF(ÁREAS!K2="","",ÁREAS!K2) | ... L13: =IF(ÁREAS!M2="","",ÁREAS!M2)
A14: 2 | B14: =IF(ÁREAS!B3="","",ÁREAS!B3) | C14: =IF(ÁREAS!D3="","",ÁREAS!D3) | D14: =IF(ÁREAS!E3="","",ÁREAS!E3) | E14: =IF(ÁREAS!F3="","",ÁREAS!F3) | F14: =IF(ÁREAS!G3="","",ÁREAS!G3) | G14: =IF(ÁREAS!H3="","",ÁREAS!H3) | H14: =IF(ÁREAS!I3="","",ÁREAS!I3) | I14: =IF(ÁREAS!J3="","",ÁREAS!J3) | J14: =IF(ÁREAS!K3="","",ÁREAS!K3) | ... L14: =IF(ÁREAS!M3="","",ÁREAS!M3)
A15: 3 | B15: =IF(ÁREAS!B4="","",ÁREAS!B4) | C15: =IF(ÁREAS!D4="","",ÁREAS!D4) | D15: =IF(ÁREAS!E4="","",ÁREAS!E4) | E15: =IF(ÁREAS!F4="","",ÁREAS!F4) | F15: =IF(ÁREAS!G4="","",ÁREAS!G4) | G15: =IF(ÁREAS!H4="","",ÁREAS!H4) | H15: =IF(ÁREAS!I4="","",ÁREAS!I4) | I15: =IF(ÁREAS!J4="","",ÁREAS!J4) | J15: =IF(ÁREAS!K4="","",ÁREAS!K4) | ... L15: =IF(ÁREAS!M4="","",ÁREAS!M4)
A16: 4 | B16: =IF(ÁREAS!B5="","",ÁREAS!B5) | C16: =IF(ÁREAS!D5="","",ÁREAS!D5) | D16: =IF(ÁREAS!E5="","",ÁREAS!E5) | E16: =IF(ÁREAS!F5="","",ÁREAS!F5) | F16: =IF(ÁREAS!G5="","",ÁREAS!G5) | G16: =IF(ÁREAS!H5="","",ÁREAS!H5) | H16: =IF(ÁREAS!I5="","",ÁREAS!I5) | I16: =IF(ÁREAS!J5="","",ÁREAS!J5) | J16: =IF(ÁREAS!K5="","",ÁREAS!K5) | ... L16: =IF(ÁREAS!M5="","",ÁREAS!M5)
A17: 5 | B17: =IF(ÁREAS!B6="","",ÁREAS!B6) | C17: =IF(ÁREAS!D6="","",ÁREAS!D6) | D17: =IF(ÁREAS!E6="","",ÁREAS!E6) | E17: =IF(ÁREAS!F6="","",ÁREAS!F6) | F17: =IF(ÁREAS!G6="","",ÁREAS!G6) | G17: =IF(ÁREAS!H6="","",ÁREAS!H6) | H17: =IF(ÁREAS!I6="","",ÁREAS!I6) | I17: =IF(ÁREAS!J6="","",ÁREAS!J6) | J17: =IF(ÁREAS!K6="","",ÁREAS!K6) | ... L17: =IF(ÁREAS!M6="","",ÁREAS!M6)
A18: 6 | B18: =IF(ÁREAS!B7="","",ÁREAS!B7) | C18: =IF(ÁREAS!D7="","",ÁREAS!D7) | D18: =IF(ÁREAS!E7="","",ÁREAS!E7) | E18: =IF(ÁREAS!F7="","",ÁREAS!F7) | F18: =IF(ÁREAS!G7="","",ÁREAS!G7) | G18: =IF(ÁREAS!H7="","",ÁREAS!H7) | H18: =IF(ÁREAS!I7="","",ÁREAS!I7) | I18: =IF(ÁREAS!J7="","",ÁREAS!J7) | J18: =IF(ÁREAS!K7="","",ÁREAS!K7) | ... L18: =IF(ÁREAS!M7="","",ÁREAS!M7)
A19: 7 | B19: =IF(ÁREAS!B8="","",ÁREAS!B8) | C19: =IF(ÁREAS!D8="","",ÁREAS!D8) | D19: =IF(ÁREAS!E8="","",ÁREAS!E8) | E19: =IF(ÁREAS!F8="","",ÁREAS!F8) | F19: =IF(ÁREAS!G8="","",ÁREAS!G8) | G19: =IF(ÁREAS!H8="","",ÁREAS!H8) | H19: =IF(ÁREAS!I8="","",ÁREAS!I8) | I19: =IF(ÁREAS!J8="","",ÁREAS!J8) | J19: =IF(ÁREAS!K8="","",ÁREAS!K8) | ... L19: =IF(ÁREAS!M8="","",ÁREAS!M8)
A20: 8 | B20: =IF(ÁREAS!B9="","",ÁREAS!B9) | C20: =IF(ÁREAS!D9="","",ÁREAS!D9) | D20: =IF(ÁREAS!E9="","",ÁREAS!E9) | E20: =IF(ÁREAS!F9="","",ÁREAS!F9) | F20: =IF(ÁREAS!G9="","",ÁREAS!G9) | G20: =IF(ÁREAS!H9="","",ÁREAS!H9) | H20: =IF(ÁREAS!I9="","",ÁREAS!I9) | I20: =IF(ÁREAS!J9="","",ÁREAS!J9) | J20: =IF(ÁREAS!K9="","",ÁREAS!K9) | ... L20: =IF(ÁREAS!M9="","",ÁREAS!M9)
A21: 9 | B21: =IF(ÁREAS!B10="","",ÁREAS!B10) | C21: =IF(ÁREAS!D10="","",ÁREAS!D10) | D21: =IF(ÁREAS!E10="","",ÁREAS!E10) | E21: =IF(ÁREAS!F10="","",ÁREAS!F10) | F21: =IF(ÁREAS!G10="","",ÁREAS!G10) | G21: =IF(ÁREAS!H10="","",ÁREAS!H10) | H21: =IF(ÁREAS!I10="","",ÁREAS!I10) | I21: =IF(ÁREAS!J10="","",ÁREAS!J10) | J21: =IF(ÁREAS!K10="","",ÁREAS!K10) | ... L21: =IF(ÁREAS!M10="","",ÁREAS!M10)
A22: 10 | B22: =IF(ÁREAS!B11="","",ÁREAS!B11) | C22: =IF(ÁREAS!D11="","",ÁREAS!D11) | D22: =IF(ÁREAS!E11="","",ÁREAS!E11) | E22: =IF(ÁREAS!F11="","",ÁREAS!F11) | F22: =IF(ÁREAS!G11="","",ÁREAS!G11) | G22: =IF(ÁREAS!H11="","",ÁREAS!H11) | H22: =IF(ÁREAS!I11="","",ÁREAS!I11) | I22: =IF(ÁREAS!J11="","",ÁREAS!J11) | J22: =IF(ÁREAS!K11="","",ÁREAS!K11) | ... L22: =IF(ÁREAS!M11="","",ÁREAS!M11)
A23: 11 | B23: =IF(ÁREAS!B12="","",ÁREAS!B12) | C23: =IF(ÁREAS!D12="","",ÁREAS!D12) | D23: =IF(ÁREAS!E12="","",ÁREAS!E12) | E23: =IF(ÁREAS!F12="","",ÁREAS!F12) | F23: =IF(ÁREAS!G12="","",ÁREAS!G12) | G23: =IF(ÁREAS!H12="","",ÁREAS!H12) | H23: =IF(ÁREAS!I12="","",ÁREAS!I12) | I23: =IF(ÁREAS!J12="","",ÁREAS!J12) | J23: =IF(ÁREAS!K12="","",ÁREAS!K12) | ... L23: =IF(ÁREAS!M12="","",ÁREAS!M12)
A24: 12 | B24: =IF(ÁREAS!B13="","",ÁREAS!B13) | C24: =IF(ÁREAS!D13="","",ÁREAS!D13) | D24: =IF(ÁREAS!E13="","",ÁREAS!E13) | E24: =IF(ÁREAS!F13="","",ÁREAS!F13) | F24: =IF(ÁREAS!G13="","",ÁREAS!G13) | G24: =IF(ÁREAS!H13="","",ÁREAS!H13) | H24: =IF(ÁREAS!I13="","",ÁREAS!I13) | I24: =IF(ÁREAS!J13="","",ÁREAS!J13) | J24: =IF(ÁREAS!K13="","",ÁREAS!K13) | ... L24: =IF(ÁREAS!M13="","",ÁREAS!M13)
... A204: 192 | B204: =IF(ÁREAS!B193="","",ÁREAS!B193) | C204: =IF(ÁREAS!D193="","",ÁREAS!D193) | D204: =IF(ÁREAS!E193="","",ÁREAS!E193) | E204: =IF(ÁREAS!F193="","",ÁREAS!F193) | F204: =IF(ÁREAS!G193="","",ÁREAS!G193) | G204: =IF(ÁREAS!H193="","",ÁREAS!H193) | H204: =IF(ÁREAS!I193="","",ÁREAS!I193) | I204: =IF(ÁREAS!J193="","",ÁREAS!J193) | J204: =IF(ÁREAS!K193="","",ÁREAS!K193) | ... L204: =IF(ÁREAS!M193="","",ÁREAS!M193)

Sheet HDCA1_Desc. Puestos de trabajo
A1: #VALUE! | C1: EMPRESA QUE REALIZA EL RECONOCIMIENTO | K1: RP-PE-SQ.HC03
C2: RELATIVO AL PROCESO | K2: Revisión: 2026-03-27
C3: DESCRIPCIÓN DE PUESTOS DE TRABAJO | K3: Emisión: 2026-03-28
K4: No. de Rev: 3.1
A6: ID de informe | C6: ='DATOS GENERALES'!B16 -> MD32026-SGC091-TMSQIR-01A | I6: Fecha de elaboración | K6: ='DATOS GENERALES'!B19 -> 2026-04-30
A7: Nombre, denominación o razón social | F7: ='DATOS GENERALES'!B2 -> 0
A8: Nombre y puesto de quien realizó | F8: =BDG!H2&"/Líder de proyecto" -> Angel Gustavo Medina Garcia/Líder de proyecto | L8: Firma
A9: Nombre y puesto de quien revisó | F9: =BDG!I2&"/Líder de proyecto" -> Alfredo Solano Bustamante/Líder de proyecto | L9: Firma
A11: ID de área | B11: Puestos de trabajo | D11: Descripción de actividades del puesto de trabajo | I11: EPP específico
A12: 1 | B12: =IF('Descripción de trabajo'!B2="","",'Descripción de trabajo'!B2) | D12: =IF('Descripción de trabajo'!C2="","",'Descripción de trabajo'!C2) | I12: =IF('Descripción de trabajo'!D2="","",'Descripción de trabajo'!D2)
A13: 2 | B13: =IF('Descripción de trabajo'!B3="","",'Descripción de trabajo'!B3) | D13: =IF('Descripción de trabajo'!C3="","",'Descripción de trabajo'!C3) | I13: =IF('Descripción de trabajo'!D3="","",'Descripción de trabajo'!D3)
A14: 3 | B14: =IF('Descripción de trabajo'!B4="","",'Descripción de trabajo'!B4) | D14: =IF('Descripción de trabajo'!C4="","",'Descripción de trabajo'!C4) | I14: =IF('Descripción de trabajo'!D4="","",'Descripción de trabajo'!D4)
A15: 4 | B15: =IF('Descripción de trabajo'!B5="","",'Descripción de trabajo'!B5) | D15: =IF('Descripción de trabajo'!C5="","",'Descripción de trabajo'!C5) | I15: =IF('Descripción de trabajo'!D5="","",'Descripción de trabajo'!D5)
A16: 5 | B16: =IF('Descripción de trabajo'!B6="","",'Descripción de trabajo'!B6) | D16: =IF('Descripción de trabajo'!C6="","",'Descripción de trabajo'!C6) | I16: =IF('Descripción de trabajo'!D6="","",'Descripción de trabajo'!D6)
A17: 6 | B17: =IF('Descripción de trabajo'!B7="","",'Descripción de trabajo'!B7) | D17: =IF('Descripción de trabajo'!C7="","",'Descripción de trabajo'!C7) | I17: =IF('Descripción de trabajo'!D7="","",'Descripción de trabajo'!D7)
A18: 7 | B18: =IF('Descripción de trabajo'!B8="","",'Descripción de trabajo'!B8) | D18: =IF('Descripción de trabajo'!C8="","",'Descripción de trabajo'!C8) | I18: =IF('Descripción de trabajo'!D8="","",'Descripción de trabajo'!D8)
A19: 8 | B19: =IF('Descripción de trabajo'!B9="","",'Descripción de trabajo'!B9) | D19: =IF('Descripción de trabajo'!C9="","",'Descripción de trabajo'!C9) | I19: =IF('Descripción de trabajo'!D9="","",'Descripción de trabajo'!D9)
A20: 9 | B20: =IF('Descripción de trabajo'!B10="","",'Descripción de trabajo'!B10) | D20: =IF('Descripción de trabajo'!C10="","",'Descripción de trabajo'!C10) | I20: =IF('Descripción de trabajo'!D10="","",'Descripción de trabajo'!D10)
A21: 10 | B21: =IF('Descripción de trabajo'!B11="","",'Descripción de trabajo'!B11) | D21: =IF('Descripción de trabajo'!C11="","",'Descripción de trabajo'!C11) | I21: =IF('Descripción de trabajo'!D11="","",'Descripción de trabajo'!D11)
A22: 11 | B22: =IF('Descripción de trabajo'!B12="","",'Descripción de trabajo'!B12) | D22: =IF('Descripción de trabajo'!C12="","",'Descripción de trabajo'!C12) | I22: =IF('Descripción de trabajo'!D12="","",'Descripción de trabajo'!D12)
A23: 12 | B23: =IF('Descripción de trabajo'!B13="","",'Descripción de trabajo'!B13) | D23: =IF('Descripción de trabajo'!C13="","",'Descripción de trabajo'!C13) | I23: =IF('Descripción de trabajo'!D13="","",'Descripción de trabajo'!D13)
... A256: 245 | B256: =IF('Descripción de trabajo'!B246="","",'Descripción de trabajo'!B246) | D256: =IF('Descripción de trabajo'!C246="","",'Descripción de trabajo'!C246) | I256: =IF('Descripción de trabajo'!D246="","",'Descripción de trabajo'!D246)

Sheet Sheet2
